Workbook
Name A: #REF!
Name A: #REF!
Name AAA: #REF!
Name AAA: #REF!
Name ADF: [1]변수!#REF!
Name ADF: [1]변수!#REF!
Name database2: #REF!
Name database2: #REF!
Name HH: [3]정부노임단가!$A$5:$F$215
Name JH: [4]정부노임단가!$A$5:$F$215
Name JJ: [5]정부노임단가!$A$5:$F$215
Name KK: [4]정부노임단가!$A$5:$F$215
Name PRINT_AREA_MI: #REF!
Name PRINT_AREA_MI: #REF!
Name TITLE: #REF!
Name TITLE: #REF!
Name 고급: [6]변수!$H$100
Name 고급단가: [1]변수!$H$43
Name 고급전체: #REF!
Name 고급전체: #REF!
Name 공고공람비: [7]직접경비!#REF!
Name 공고공람비: [7]직접경비!#REF!
Name 공사성격: [8]변수!$E$11
Name 공사성격값: [9]입력!$C$16
Name 공사원가: #REF!
Name 공사원가: #REF!
Name 교량개소: [1]변수!$H$63
Name 교량개소변: [8]변수!$J$49
Name 교량연장: [1]변수!$J$63
Name 교량연장변: [8]변수!$J$44
Name 교육: [7]직접인건비!#REF!
Name 교육: [7]직접인건비!#REF!
Name 교통: [7]직접인건비!#REF!
Name 교통: [7]직접인건비!#REF!
Name 기본계획변경유무: [10]변수!$E$20
Name 기본계획수립경과: [10]변수!$E$16
Name 기상: [7]직접인건비!#REF!
Name 기상: [7]직접인건비!#REF!
Name 기술: [6]변수!$F$100
Name 기술료: #REF!
Name 기술료: #REF!
Name 기술사단가: [1]변수!$F$43
Name 기술자단가: [1]변수!$F$43
Name 기술자범위: [8]변수!#REF!
Name 기술자범위: [8]변수!#REF!
Name 기타: [7]직접인건비!#REF!
Name 기타: [7]직접인건비!#REF!
Name 내역서: #REF!
Name 내역서: #REF!
Name 노계: [8]변수!$I$25
Name 노설: [8]변수!$I$26
Name 노성: [8]변수!$I$27
Name 노식: [8]변수!$J$24
Name 노조: [8]변수!$I$24
Name ㄷ1931: #REF!
Name ㄷ1931: #REF!
Name 단가적용표: #REF!
Name 단가적용표: #REF!
Name 대안설정: [7]직접인건비!#REF!
Name 대안설정: [7]직접인건비!#REF!

Sheet 표지
D3: 2023년도
D6: 울산신항 북방파제 외 5개소 유지보수공사 등 통합건설사업관리용역 설계서
F13: ◎ 용 역 개 요 : 건설사업관리용역 1식
F15: ◎ 용 역 금 액
G16: - | H16: 도급액 | I16: : | J16: =+설계내역서!H3 -> 224000000
H17: 공급가액 | I17: : | J17: =설계내역서!H18 -> 203636364
H18: 부가가치세 | I18: : | J18: =+설계내역서!H19 -> 20363636

Sheet 설계내역서
A1: 품 명 | D1: 규 격 | E1: 단위 | F1: 수 량 | G1: 단 가 | H1: 금 액 | I1: 비 고
A2: 용역명 : 울산신항 북항 방파호안 외 5개소 유지보수공사 등 통합건설사업관리용역 | K2: ※ 합계금액 셀에서 목표값찾기로 단수조정
A3: 총 용역비 | H3: =산출근거!F57 -> 224000000 | K3: <목표값 찾기>: 메뉴에서 데이터 / 가상분석 / 목표값찾기
A4: 1. | B4: 직접인건비 | E4: 인·월 | H4: =H5+H6 -> 79924023 | K4: - 수식셀 : H3
A5: 토목 | B5: 가. | C5: 상주건설사업관리기술자 | E5: 인·월 | F5: =산출근거!F4 -> 9.41 | G5: =+산출근거!J4 -> 7640920 | H5: =산출근거!R4 -> 71901057 | K5: - 찾는값 : 단수정리하여 얻을 값(도급액 단위조정)
B6: 나. | C6: 기술지원기술자 | E6: 인·월 | F6: =산출근거!F5 -> 1.05 | G6: =+산출근거!J5 -> 7640920 | H6: =산출근거!R5 -> 8022966 | K6: - 값을 바꿀셀 : K7
A7: 2. | B7: 제경비 | D7: 직접인건비의 | E7: % | F7: =산출근거!F8*100 -> 98.475578 | H7: =산출근거!R7 -> 77188960
A8: 3. | B8: 기술료 | D8: (직접인건비+제경비)의 | E8: % | F8: =산출근거!K12*100 -> 10 | H8: =산출근거!R11 -> 15711298
A9: 4. | B9: 직접경비 | H9: =산출근거!R14 -> 28954311
B10: 가. | C10: 현장주재비 | D10: =산출근거!F16 -> 0.3 | E10: 식 | F10: 1 | H10: =산출근거!R16 -> 21570317
B11: 나. | C11: 출장여비 | D11: =산출근거!F18 -> 0.1 | E11: 식 | F11: 1 | H11: =산출근거!R18 -> 802296
B12: 다. | C12: 차량운행비 | D12: =산출근거!J26 -> 1 | E12: 월 | F12: 6 | G12: 0 | H12: =산출근거!R26 -> 6001698
B13: 라. | C13: 현장운영경비 | D13: 보조요원 1인 | E13: 월 | F13: 0 | H13: =산출근거!R33 -> 0
B14: 마. | C14: 도서인쇄비 | E14: 식 | F14: 1 | H14: =산출근거!S39 -> 580000
A15: 5. | B15: 안 전 · 보 건 관 리 비 | D15: 직접인건비의 | E15: % | F15: 0.3 | H15: =산출근거!R41 -> 239772
A16: 6. | B16: 소계 | H16: =H4+H7+H8+H9+H15 -> 202018364
A17: 7. | B17: 손해배상공제료 | E17: 식 | F17: 1 | H17: =산출근거!R44 -> 1618000
A18: 8. | B18: 공급가액 | H18: =산출근거!F55 -> 203636364
A19: 9. | B19: 부가가치세 | H19: =+산출근거!F56 -> 20363636

Sheet 산출근거
A1: ○ 건설사업관리용역비 산출근거 | W1: 주의 : 붉은색 글씨만 수정하세요^^
B3: 1. | C3: 직접인건비 | Q3: = | R3: =SUM(R4:T5) -> 79924023 | U3: 원 | W3: ○ 건설사업관리용역비 입력변수 | AG3: (금액은 VAT제외)
C4: 토목 | D4: 상주건설사업관리기술자 | E4: : | F4: =+'건설사업관리기술자 배치'!N30 -> 9.41 | I4: × | J4: ='건설사업관리기술자 배치'!V22 -> 7640920 | Q4: = | R4: =INT(F4*J4) -> 71901057 | U4: 원 | W4: 구 분 | Y4: 규 격 | AA4: 단위 | AB4: 적 용 | AD4: 비 고
D5: 기술지원기술자 | E5: : | F5: ='건설사업관리기술자 배치'!N31 -> 1.05 | I5: × | J5: =J4 -> 7640920 | Q5: = | R5: =INT(F5*J5) -> 8022966 | U5: 원 | W5: 제 경 비 | Y5: 110%~120% | AA5: % | AB5: 110
B7: 2. | C7: 제경비(직접인건비의 110 ~ 120%) | Q7: = | R7: =R9 -> 77188960 | U7: 원 | W7: 현장주재비 | Y7: 0.3 | AA7: % | AB7: 30 | AD7: 건설사업관리대가
D8: =R3 -> 79924023 | E8: × | F8: 0.98475578 | Q8: = | R8: =INT(D8*F8) -> 78705643 | U8: 원 | W8: 출장여비 | Y8: 0.1 | AA8: % | AB8: 10
N9: (단수조정) | Q9: ≒ | R9: =R8+V9 -> 77188960 | U9: 원 | V9: -1516683 | W9: 현지차량 | Y9: 승합차 or 승용차 | AB9: 승용차
W10: 경 유 | Y10: 승합차 적용 | AA10: 원/ℓ | AB10: 1818.31 | AD10: 석유공사 주유소판매가격 | AH10: http://www.knoc.co.kr/
B11: 3. | C11: 기술료 : (직접인건비 + 제경비)의 20 ~ 40% | Q11: = | R11: =R12 -> 15711298 | U11: 원 | W11: 휘발유 | Y11: 승용차 적용 | AA11: 원/ℓ | AB11: 1810.49 | AD11: (2026년 03월 기준)
D12: =R3 -> 79924023 | E12: + | F12: =R9 -> 77188960 | J12: × | K12: 0.1 | Q12: = | R12: =INT((D12+F12)*K12) -> 15711298 | U12: 원 | W12: 현장보조요원 | Y12: 보통인부 | AA12: 원/일 | AB12: 172068 | AD12: 대한건설협회 2026년 상반기 | AH12: http://www.cak.or.kr/board/boardList.do?boardId=spend_wage&menuId=61
W13: 사무실운영비 | Y13: 현장사무실 | AA13: 원/월 | AB13: 1000000
B14: 4. | C14: 직접경비 | Q14: = | R14: =SUM(R16,R18,R26,R33,S39) -> 28954311 | U14: 원 | W14: 도서인쇄비 | Y14: 1면 | AA14: 원 | AB14: 150 | AD14: 견적서 | AH14: 한국물가협회/적산자료/인쇄공정별요금표
C15: =CONCATENATE("가) 현장주재비 : 상주건설사업관리기술자 직접인건비의"," ",AB7,"%") -> 가) 현장주재비 : 상주건설사업관리기술자 직접인건비의 30% | W15: 제 본 비 | Y15: 1부당 | AA15: 원 | AB15: 2500 | AH15: http://www.spiic.or.kr/(자료실/인쇄기준요금표)
D16: =R4 -> 71901057 | E16: × | F16: =AB7/100 -> 0.3 | Q16: = | R16: =INT(D16*F16) -> 21570317 | U16: 원
C17: =CONCATENATE("나) 출장여비 : 기술지원기술자 직접인건비의"," ",AB8,"%") -> 나) 출장여비 : 기술지원기술자 직접인건비의 10% | W17: *현지 차량(월간 거래가격 / 차량 2025년 12월) | AG17: (VAT제외)
D18: =R5 -> 8022966 | E18: × | F18: =AB8/100 -> 0.1 | Q18: = | R18: =INT(D18*F18) -> 802296 | U18: 원 | W18: 구 분 | X18: 가격(원/L) | Z18: 차 종 | AE18: 손료계수 | AG18: 비고 | AH18: http://www.g2b.go.kr/pt/menu/selectSubFrame.do?framesrc=/pt/menu/framePrice.do?url=http://www.g2b.go.kr/ci/co/priceGuide.do&menuId=000001
W19: 승합차 | X19: 36620000 | Z19: 승합차 2000cc 이하 적용(싼타페2.0) | AE19: 1319 | AG19: 경유
C20: 다) 현지 차량운행비 | W20: 승용차 | X20: 20650000 | Z20: 승용차 2000cc 이하 적용(아반떼 1.6) | AE20: 1547 | AG20: 휘발유
C21: ○ | D21: =IF(AB9=W19,Z19,IF(AB9=W20,Z20,"")) -> 승용차 2000cc 이하 적용(아반떼 1.6)
D22: - 손 료 : | E22: =X20 -> 20650000 | G22: 원 × | H22: 1547 | J22: 10 | K22: -7 | L22: × | M22: 8 | N22: × | O22: 22 | P22: 일 | Q22: = | R22: =ROUND(INT(E22*H22*1/10000000)*M22*O22,0) -> 562144 | U22: 원
D23: =IF(AB9=W20,"- 주원료 (휘발유) :","- 주원료 (휘발유) :") -> - 주원료 (휘발유) : | E23: =AB11 -> 1810.49 | G23: 원/ℓ | H23: × | I23: 10 | J23: ℓ/일 | K23: × | L23: 22 | M23: 일 | Q23: = | R23: =ROUND(E23*I23*L23,0) -> 398308 | U23: 원
D24: - 잡 품 (10%) : | E24: =R23 -> 398308 | H24: × | I24: 10 | J24: % | Q24: = | R24: =ROUND(E24*0.1,0) -> 39831 | U24: 원
D25: 소 계 | Q25: = | R25: =R22+R23+R24 -> 1000283 | U25: 원
D26: =R25 -> 1000283 | E26: × | F26: =입력변수!O26 -> 6 | I26: × | J26: 1 | K26: 대 | Q26: = | R26: =INT(D26*F26*J26) -> 6001698 | U26: 원
C28: 라) 현지 사무원 급료 :
C29: ○ 현장 보조요원 급료 : | F29: =AB12 -> 172068
D30: - 보통인부 적용(1인당 월22일 기준, 상여금 400%, 퇴직적립금 100% 적용)
D31: =AB12 -> 172068 | F31: =AB12 -> 172068 | Q31: = | R31: =INT((AB12*16/12*22)+(AB12*16/12*1/12*22)) -> 5467938 | U31: 원
D32: =R31 -> 5467938 | E32: × | F32: =F26 -> 6 | I32: × | J32: =J26 -> 1 | K32: 인 | Q32: = | R32: =INT(D32*F32*J32) -> 32807628 | U32: 원
D33: 소 계 | Q33: = | R33: 0 | U33: 원
C35: 마) 도서 인쇄비 | E35: (1면 : | F35: =AB14 -> 150 | H35: 1부당 제본료 : | K35: =AB15 -> 2500
C36: ○ | D36: 월간보고서 | E36: (6회) | F36: : | G36: =CONCATENATE(6," 회 x ",2,"부 x [(",200," 면 x ",150,"원) + ",2500," 원]") -> 6 회 x 2부 x [(200 면 x 150원) + 2500 원] | R36: = | S36: =ROUND(6*2*((200*150)+2500),0) -> 390000 | U36: 원
C37: ○ | D37: 최 종 보 고 서 | E37: (1회) | F37: : | G37: =CONCATENATE(1," 회 x ",2,"부 x [(",300," 면 x ",150,"원) + ",2500," 원]") -> 1 회 x 2부 x [(300 면 x 150원) + 2500 원] | R37: = | S37: =ROUND(1*2*((300*150)+2500),0) -> 95000 | U37: 원
C38: ○ | D38: 유지관리지침서 | E38: (1회) | F38: : | G38: =CONCATENATE(1," 회 x ",2,"부 x [(",300," 면 x ",150,"원) + ",2500," 원]") -> 1 회 x 2부 x [(300 면 x 150원) + 2500 원] | R38: = | S38: =ROUND(1*2*((300*150)+2500),0) -> 95000 | U38: 원
D39: 소 계 | R39: = | S39: =SUM(S36:T38) -> 580000 | U39: 원
B41: 5. | C41: 안전·보건관리비 | R41: =R42 -> 239772 | U41: 원
C42: ○ | D42: 직접인건비 | E42: × | L42: 0.3 | M42: % | Q42: = | R42: =TRUNC(R3*0.3%) -> 239772 | U42: 원
B44: 6. | C44: 손해배상보험료 | Q44: = | R44: =TRUNC((R49+R50+R51+R52+R53),-3) -> 1618000 | U44: 원
C45: ○ | D45: 순계약금액 × [기본비율 + 가산요율 × (표준공사기간 초과일수 / 365)]
C46: ○ | D46: 공사종류 : 항만공사, 표준공사기간 : 5년 (1825일), | J46: 공제가입기간 : | M46: =입력변수!O26 -> 6 | N46: 개월( | O46: =ROUND((365/12)*M46,0) -> 183
...

Sheet 건설사업관리기술자 배치
A1: ○ 건설사업관리기술자 배치 | AB1: 주의 : 분홍색 셀만 수정하세요^^
B3: 1. 적용기준
C4: ○ | D4: 공사 낙찰률 | H4: : | I4: 1
C5: - | D5: 공사낙찰률에 대한 보정 | H5: : | I5: =IF(I4<=#REF!,0.5,IF(I4<V7,0.4,IF(I4<V6,0.3,IF(I4<V5,0.2,1)))) -> #REF!
C6: ○ | D6: 울산신항 북방파제 외 5개소 유지보수공사 | M6: =+M7+M8 -> 21.57 | O6: 인·월
C7: - | D7: 시공단계 | H7: : | I7: ='건설사업관리기술자수 산정'!M61 -> 310.8 | K7: 인·일 | L7: = | M7: =ROUND(I7/22,2) -> 14.13 | O7: 인·월
C8: - | D8: 시공외 단계 | H8: : | I8: ='건설사업관리기술자수 산정'!M62 -> 163.7 | K8: 인·일 | L8: = | M8: =ROUND(I8/22,2) -> 7.44 | O8: 인·월
C9: ○ | D9: 공사 복잡도(시공단계) | H9: : | I9: 단순한 공종 | AB9: I11셀 입력시 칸 띄우기 조심
B11: 2. 건설사업관리기술자수(건설엔지니어링 대가기준 제7조 ①항에 의거) | U11: 공사복잡도에 의한 기술지원기술자수
C12: 1) | D12: 시공단계 건설사업관리기술자 | H12: : | N12: =SUM(N13,N14) -> 14.13 | P12: 인·월 | Q12: ≒ | R12: =SUM(R13,R14) -> 1.41 | S12: 인·월 | T12: (적용) | U12: 단순한 공종 | X12: 0.1
E13: 상주 기술자 | H13: : | I13: =+M7 -> 14.13 | K13: × | L13: =IF(I9=U12,0.9,IF(I9=U13,0.85,IF(I9=U14,0.8,""))) -> 0.9 | M13: = | N13: =ROUND(I13*L13,2) -> 12.72 | P13: 인·월 | S13: 인·월 | T13: (적용) | U13: 보통의 공종 | X13: 0.15
E14: 기술지원 기술자 | H14: : | I14: =+M7 -> 14.13 | K14: × | L14: =1-L13 -> 0.1 | M14: = | N14: =ROUND(I14*L14,2) -> 1.41 | P14: 인·월 | Q14: ≒ | R14: =N14 -> 1.41 | S14: 인·월 | T14: (적용) | U14: 복잡한 공종 | X14: 0.2
C15: 2) | D15: 시공외 단계 건설사업관리기술자 | H15: : | N15: =M8 -> 7.44 | P15: 인·월 | Q15: ≒ | R15: =#REF! -> #REF! | S15: 인·월 | T15: (적용) | AC15: =N15+N13 -> 20.16
D16: 계 | E16: : | N16: =SUM(N12,N15) -> 21.57 | P16: 인·월 | R16: =SUM(R12,R15) -> #REF! | S16: 인·월 | T16: (적용)
B18: 3. 상주 건설사업관리기술자 등급별 투입 조정 | P18: 건설사업관리기술자 노임단가(2026년)
C19: 1) | D19: 건설사업관리기술자수 = | P19: 등 급 | R19: 특급기술자 | T19: 고급기술자 | V19: 중급기술자 | X19: 초급기술자
P20: 일 임금액 | R20: 399247 | T20: 376400 | V20: 350580 | X20: 287724
E21: Si = 각급 기술자의 환산비 | P21: 환산비 | R21: =+R20/T20 -> 1.0606987 | T21: 1 | V21: =+V20/T20 -> 0.93140276 | X21: =+X20/T20 -> 0.7644102
E22: Ni = 각급 기술자의 수(인·월) | P22: 고급기술자 월 임금액(월 20.3일) | V22: =T20*20.3 -> 7640920
D24: 중급기술자 | G24: =IF(I24=0,"",":") -> : | H24: 책임 | I24: 1 | J24: =IF(I24>0,"인 ×","") -> 인 × | K24: =IF(I24=0,"",IF(D24=$R$19,$R$21,IF(D24=$T$19,$T$21,IF(D24=$V$19,$V$21,IF(D24=$X$19,$X$21,""))))) -> 0.93140276 | L24: =IF(I24>0,"×","") -> × | M24: 6 | O24: =IF(I24=0,"","=") -> = | P24: =IF(I24=0,"",ROUND(I24*K24*M24,2)) -> 5.59 | R24: =IF(I24=0,"","인·월") -> 인·월 | S24: [업무총괄, 안전관리 전담]
D25: 초급기술자 | G25: =IF(I25=0,"",":") -> : | H25: =IF(I25=0,"","보조") -> 보조 | I25: 1 | J25: =IF(I25>0,"인 ×","") -> 인 × | K25: =IF(I25=0,"",IF(D25=$R$19,$R$21,IF(D25=$T$19,$T$21,IF(D25=$V$19,$V$21,IF(D25=$X$19,$X$21,""))))) -> 0.7644102 | L25: =IF(I25>0,"×","") -> × | M25: 5 | O25: =IF(I25=0,"","=") -> = | P25: =IF(I25=0,"",ROUND(I25*K25*M25,2)) -> 3.82 | R25: =IF(I25=0,"","인·월") -> 인·월
D26: 계 | E26: : | I26: =SUM(I24:I25) -> 2 | M26: [적용] | O26: = | P26: =SUM(P24:Q25) -> 9.41 | R26: 인·월
B28: 4. 건설사업관리기술자수[토목]
C29: 1) | D29: 시공단계 건설사업관리기술자 | H29: :
E30: 상주 기술자 | H30: : | M30: = | N30: =+P26 -> 9.41 | P30: 인·월
E31: 기술지원 기술자 | H31: : | I31: =N30 -> 9.41 | J31: / 0.90 | K31: =IF(H31>0,"×","") -> × | L31: 0.1 | M31: = | N31: =ROUND(I31/0.9*L31,2) -> 1.05 | P31: 인·월
D32: 계 | E32: : | N32: =+N30+N31 -> 10.46 | P32: 인·월

Sheet 입력변수
B2: 건설사업관리 대가기준 산정 입력변수
B4: ○ 용 역 명 : 울산신항 북방파제 외 5개소 유지보수공사 등 통합건설사업관리용역
B6: ○ 해당용역 유무
B7: 구분 | C7: 단 계 | F7: 유:1, 무:0 | H7: 비 고
B8: 용역 유형 | C8: 공통업무 | F8: 1 | H8: "건설사업관리기술자수 산정"시트에서 기본업무에 대한 "해당용역유무" 확인
C9: 설계전 단계
C10: 기본설계 단계
C11: 실시설계 단계
C12: 구매조달 단계
C13: 시공 단계 | F13: 1
C14: 시공후 단계 | F14: 1
B16: ○ 입력변수
B17: 구 분 | F17: 내 용 | M17: 단위 | O17: 입력값
B18: 투입 인원수 산정 기준 | C18: 공 사 비 | F18: 총공사비 | M18: 억원 | O18: 11.29
F19: 구조물공사비 | M19: 억원 | O19: 10.16
C20: 공사일수 | F20: 시공단계 공사일수(년) | M20: 년 | O20: 0.5
F21: 구매조달 및 시공단계 공사일수(개월) | M21: 개월 | O21: 6
F22: 시공단계 공사일수(일)(1개월=22일) | M22: 일(환산일수) | O22: =O21*22 -> 132
C23: 용역일수 | F23: 기본설계 용역일수(개월) | M23: 월
F24: 실시설계 용역일수(개월) | M24: 월
F25: 시공단계 용역일수(년) | M25: 년 | O25: 0.5
F26: 시공단계 용역일수(개월) | M26: 개월 | O26: 6
F27: 시공단계 용역일수(일)(1개월=22일) | M27: 일(환산일수) | O27: =O26*22 -> 132
C28: 공통업무 | F28: 사업정보관리시스템의 운영일수 | M28: 일(환산일수) | O28: =O27 -> 132
C29: 기본설계 단계 | F29: 기본설계 용역기성 및 준공검사 관리 횟수 | M29: 회
F30: 설계자문회의 운영 및 관리 횟수 | M30: 회
C31: 실시설계 단계 | F31: 실시설계 용역기성 및 준공검사 관리 횟수 | M31: 회
F32: 설계자문회의 운영 및 관리 횟수 | M32: 회
C33: 시공단계 | F33: 기성검사 횟수 | M33: 회 | O33: 1
F34: 시공단계의 예산검증 및 지원 횟수 | M34: 회 | O34: 1
B35: 보정 계수 | C35: a.항만유형 및 선박규모 | F35: ①준설 및 매립 : 0.7 ②배후부지 : 0.7 ③(계류시설)일반 및 기타부두, 물양장, (외곽시설) 호안, 방파제, 가호안, 기타 외곽시설 : 1.0 ④(계류시설, 전문부두) 컨테이너, 자동차, 여객 : 1.0 ⑤(계류시설) 말뚝식, 원유부이 : 1.2 ⑥(계류시설) 부잔교, 마리나, (외곽시설) 갑문, 수문 : 1.2 | M35: 보정계수값 | O35: 1
C36: b.지역 | F36: ① 동해 : 1.2, ② 서해 : 1.2, ③ 남해 : 1.0 ④ 기타 도서지역(제주도 제외) : 1.4 | M36: 보정계수값 | O36: 1.2
C37: c.수심 | F37: ① 5m이하 : 0.8, ② 5m 초과~20m 이하 1.0, ③ 20m 초과 : 1.2 | M37: 보정계수값 | O37: 0.8
B38: 공사 난이도 | C38: 입력값 산정 | D38: 구조물비중 | F38: 구조물비중 = 구조물공사비/총공사비 | M38: 산식결과값 | O38: =ROUND(O19/O18,4) -> 0.8999
D39: 건설사업관리 기간보정계수 | F39: 건설사업관리기간보정계수 = {(평균건설사업관리기간-해당공사 건설사업관리기간)/평균건설사업관리기간}×0.1 | M39: 산식결과값 | O39: =ROUND(((O48-O26)/O48)*0.1,4) -> 0.05
C40: 시공 단계 (50억원이하) | F40: 공사난이도 = 0.011*총공사비*(1-0.0025*총공사비)+(건설사업관리기간보정계수+(0.1*구조물비중)+0.2 | M40: 산식결과값 | O40: =IF(O18<=2000,(0.011*O18/10*(1-0.0025*O18/10)+(O39+(0.5*O38)+0.2)*(O18/10*0.2)),"") -> 0.17043266
C41: 시공전 단계 (2,000억원이하) | F41: 공사난이도 = 0.015*총공사비*(1-0.0011*총공사비) | M41: 산식결과값 | O41: 0.978198
C42: 총공사비2,000억원 초과(시공 단계) | F42: 공사난이도 = 총공사비 2,000억원 시 공사난이도+{(총공사비-200)/250} | M42: 산식결과값 | O42: =IF(O18>2000,(O60+((O18/10-200)/250)),"")
C43: 총공사비2,000억원 초과(시공전 단계) | F43: 공사난이도 = 총공사비 2,000억원 시 공사난이도+{(총공사비-200)/250} | M43: 산식결과값 | O43: =IF(O18>2000,(O62+((O18/10-200)/250)),"")
B45: - 평균건설사업관리기간 | O45: 해당공사
...

Sheet 건설사업관리기술자수 산정
A1: ○ 건설사업관리기술자수 산정(항만, 댐, 공항, 단지분야)
A2: 1) 투입인원수 산정기준에 따른 투입인원수 산정
A3: 업 무 분 류 체 계 | E3: 적용 | F3: 기준인원수(인･일) | G3: 보정계수 | J3: 난 | K3: 해당 용역 유무 | L3: 적용수량 | M3: 투입인원수 (인·일)
A4: 단계 | B4: 기 본 업 무 | E4: 수량 | G4: 항만 | J4: 이
E5: 단위 | F5: 고급 | G5: a | H5: b | I5: c | J5: 도
A6: 공 통 업 무 | B6: 과업착수준비 | E6: 식 | F6: 7 | K6: =입력변수!$F$8 -> 1 | L6: =IF(K6=0,"",1) -> 1 | M6: =IF(K6=0,"",ROUND((PRODUCT(F6:J6)*K6*L6),1)) -> 7
B7: 건설사업관리 업무수행계획서 작성 | E7: 식 | F7: 20.5 | K7: =입력변수!$F$8 -> 1 | L7: =IF(K7=0,"",1) -> 1 | M7: =IF(K7=0,"",ROUND((PRODUCT(F7:J7)*K7*L7),1)) -> 20.5
B8: 건설사업관리 절차서 작성ㆍ운영 | E8: 식 | F8: 27.3 | K8: =입력변수!$F$8 -> 1 | L8: =IF(K8=0,"",1) -> 1 | M8: =IF(K8=0,"",ROUND((PRODUCT(F8:J8)*K8*L8),1)) -> 27.3
B9: 작업분류체계 및 사업번호체계 관리, 사업정보축적ㆍ관리 | E9: 식 | F9: 22.3 | K9: 0 | L9: =IF(K9=0,"",1) | M9: =IF(K9=0,"",ROUND((PRODUCT(F9:J9)*K9*L9),1))
B10: 사업정보관리시스템의 운영 | E10: 운영일수 | F10: 0.3 | G10: =입력변수!$O$35 -> 1 | J10: =IF(입력변수!$O$18<=2000,입력변수!$O$40,입력변수!$O$42) -> 0.17043266 | L10: =IF(K10=0,"",입력변수!O28) | M10: =IF(K10=0,"",ROUND((PRODUCT(F10:J10)*K10*L10),1))
B11: 클레임 사전분석 | E11: 식 | F11: 31 | L11: =IF(K11=0,"",1) | M11: =IF(K11=0,"",ROUND((PRODUCT(F11:J11)*K11*L11),1))
B12: 최종 건설사업관리 보고 | C12: 1)시공전 단계 | E12: 식 | F12: 27.3 | L12: =IF(K12=0,"",1) | M12: =IF(K12=0,"",ROUND((PRODUCT(F12:J12)*K12*L12),1))
C13: 2)시공이후 단계 | F13: 54.6 | K13: =입력변수!$F$8 -> 1 | L13: =IF(K13=0,"",1) -> 1 | M13: =IF(K13=0,"",ROUND((PRODUCT(F13:J13)*K13*L13),1)) -> 54.6 | O13: =SUM(M6:M13) -> 109.4
A14: 설 계 전 단 계 | B14: 건설기술용역업체 선정 | E14: 식 | F14: 43.7 | K14: =입력변수!$F$9 -> 0 | L14: =IF(K14=0,"",1) | M14: =IF(K14=0,"",ROUND((PRODUCT(F14:J14)*K14*L14),1))
B15: 사업타당성조사보고서의 적정성 검토 | E15: 식 | F15: 21.6 | G15: =입력변수!$O$35 -> 1 | J15: =IF(입력변수!$O$18<=2000,입력변수!$O$40,입력변수!$O$42) -> 0.17043266 | K15: =입력변수!$F$9 -> 0 | L15: =IF(K15=0,"",1) | M15: =IF(K15=0,"",ROUND((PRODUCT(F15:J15)*K15*L15),1))
B16: 기본계획보고서의 적정성 검토 | E16: 식 | F16: 21.3 | G16: =입력변수!$O$35 -> 1 | J16: =IF(입력변수!$O$18<=2000,입력변수!$O$40,입력변수!$O$42) -> 0.17043266 | K16: =입력변수!$F$9 -> 0 | L16: =IF(K16=0,"",1) | M16: =IF(K16=0,"",ROUND((PRODUCT(F16:J16)*K16*L16),1))
B17: 발주방식(사업수행방식) 결정 지원 | E17: 식 | F17: 31 | K17: =입력변수!$F$9 -> 0 | L17: =IF(K17=0,"",1) | M17: =IF(K17=0,"",ROUND((PRODUCT(F17:J17)*K17*L17),1))
B18: 관리기준공정계획수립 | E18: 식 | F18: 18 | J18: =IF(입력변수!$O$18<=2000,입력변수!$O$40,입력변수!$O$42) -> 0.17043266 | K18: =입력변수!$F$9 -> 0 | L18: =IF(K18=0,"",1) | M18: =IF(K18=0,"",ROUND((PRODUCT(F18:J18)*K18*L18),1))
B19: 총사업비 집행계획수립지원(종합예산계획서) | E19: 식 | F19: 11.4 | K19: =입력변수!$F$9 -> 0 | L19: =IF(K19=0,"",1) | M19: =IF(K19=0,"",ROUND((PRODUCT(F19:J19)*K19*L19),1)) | O19: =SUM(M14:M19) -> 0
A20: 기 본 설 계 단 계 | B20: 기본설계 설계자 선정업무 지원 | E20: 식 | F20: 17.1 | K20: =입력변수!$F$10 -> 0 | L20: =IF(K20=0,"",1) | M20: =IF(K20=0,"",ROUND((PRODUCT(F20:J20)*K20*L20),1))
B21: 기본설계 조정 및 연계성 검토 | E21: 용역개월 | F21: 3.2 | G21: =입력변수!$O$35 -> 1 | J21: =IF(입력변수!$O$18<=2000,입력변수!$O$40,입력변수!$O$42) -> 0.17043266 | K21: =입력변수!$F$10 -> 0 | L21: =입력변수!$O$23 -> 0 | M21: =IF(K21=0,"",ROUND((PRODUCT(F21:J21)*K21*L21),1))
B22: 기본설계단계의 예산검증 및 조정업무 | E22: 식 | F22: 22.5 | G22: =입력변수!$O$35 -> 1 | J22: =IF(입력변수!$O$18<=2000,입력변수!$O$40,입력변수!$O$42) -> 0.17043266 | K22: =입력변수!$F$10 -> 0 | L22: =IF(K22=0,"",1) | M22: =IF(K22=0,"",ROUND((PRODUCT(F22:J22)*K22*L22),1))
B23: 기본설계의 경제성(VE) 검토 | E23: 식 | F23: 90.6 | J23: =IF(입력변수!$O$18<=2000,입력변수!$O$40,입력변수!$O$42) -> 0.17043266 | K23: =입력변수!$F$10 -> 0 | L23: =IF(K23=0,"",1) | M23: =IF(K23=0,"",ROUND((PRODUCT(F23:J23)*K23*L23),1))
B24: 기본설계용역성과검토 | E24: 용역개월 | F24: 5.7 | G24: =입력변수!$O$35 -> 1 | H24: =입력변수!$O$36 -> 1.2 | J24: =IF(입력변수!$O$18<=2000,입력변수!$O$40,입력변수!$O$42) -> 0.17043266 | K24: =입력변수!$F$10 -> 0 | L24: =입력변수!$O$23 -> 0 | M24: =IF(K24=0,"",ROUND((PRODUCT(F24:J24)*K24*L24),1))
B25: 기본설계 용역 기성 및 준공검사관리 | E25: 회 | F25: 3.7 | G25: =입력변수!$O$35 -> 1 | K25: =입력변수!$F$10 -> 0 | L25: =입력변수!O29 -> 0 | M25: =IF(K25=0,"",ROUND((PRODUCT(F25:J25)*K25*L25),1))
B26: 각종 인허가 및 관계기관협의 지원 | E26: 식 | F26: 6.8 | K26: =입력변수!$F$10 -> 0 | L26: =IF(K26=0,"",1) | M26: =IF(K26=0,"",ROUND((PRODUCT(F26:J26)*K26*L26),1))
B27: 기본설계단계의 기술자문회의 운영 및 관리, 지원 | E27: 회 | F27: 2.5 | K27: =입력변수!$F$10 -> 0 | L27: =입력변수!O30 -> 0 | M27: =IF(K27=0,"",ROUND((PRODUCT(F27:J27)*K27*L27),1)) | O27: =SUM(M20:M27) -> 0
A28: 실 시 설 계 단 계 | B28: 실시설계 설계자 선정업무 지원 | E28: 식 | F28: 13.9 | K28: =입력변수!$F$11 -> 0 | L28: =IF(K28=0,"",1) | M28: =IF(K28=0,"",ROUND((PRODUCT(F28:J28)*K28*L28),1))
B29: 실시설계 조정 및 연계성 검토 | E29: 용역개월 | F29: 5.9 | G29: =입력변수!$O$35 -> 1 | J29: =IF(입력변수!$O$18<=2000,입력변수!$O$40,입력변수!$O$42) -> 0.17043266 | K29: =입력변수!$F$11 -> 0 | L29: =입력변수!$O$24 -> 0 | M29: =IF(K29=0,"",ROUND((PRODUCT(F29:J29)*K29*L29),1))
B30: 실시설계단계의 예산검증 및 조정업무 | E30: 식 | F30: 23.3 | G30: =입력변수!$O$35 -> 1 | J30: =IF(입력변수!$O$18<=2000,입력변수!$O$40,입력변수!$O$42) -> 0.17043266 | K30: =입력변수!$F$11 -> 0 | L30: =IF(K30=0,"",1) | M30: =IF(K30=0,"",ROUND((PRODUCT(F30:J30)*K30*L30),1))
B31: 실시설계의 경제성(VE) 검토 | E31: 식 | F31: 123.3 | J31: =IF(입력변수!$O$18<=2000,입력변수!$O$40,입력변수!$O$42) -> 0.17043266 | K31: =입력변수!$F$11 -> 0 | L31: =IF(K31=0,"",1) | M31: =IF(K31=0,"",ROUND((PRODUCT(F31:J31)*K31*L31),1))
B32: 실시설계용역성과검토 | E32: 용역개월 | F32: 10.5 | G32: =입력변수!$O$35 -> 1 | H32: =입력변수!$O$36 -> 1.2 | J32: =IF(입력변수!$O$18<=2000,입력변수!$O$40,입력변수!$O$42) -> 0.17043266 | K32: =입력변수!$F$11 -> 0 | L32: =입력변수!$O$24 -> 0 | M32: =IF(K32=0,"",ROUND((PRODUCT(F32:J32)*K32*L32),1))
B33: 실시설계 용역 기성 및 준공검사관리 | E33: 회 | F33: 8.1 | G33: =입력변수!$O$35 -> 1 | K33: =입력변수!$F$11 -> 0 | L33: =입력변수!O31 -> 0 | M33: =IF(K33=0,"",ROUND((PRODUCT(F33:J33)*K33*L33),1))
B34: 지급자재 조달 및 관리계획 수립 | E34: 식 | F34: 10.2 | K34: =입력변수!$F$11 -> 0 | L34: =IF(K34=0,"",1) | M34: =IF(K34=0,"",ROUND((PRODUCT(F34:J34)*K34*L34),1))
B35: 각종 인허가 및 관계기관협의 지원 | E35: 식 | F35: 8.3 | K35: =입력변수!$F$11 -> 0 | L35: =IF(K35=0,"",1) | M35: =IF(K35=0,"",ROUND((PRODUCT(F35:J35)*K35*L35),1))
B36: 실시설계단계의 기술자문회의 운영 및 관리, 지원 | E36: 회 | F36: 6.4 | K36: =입력변수!$F$11 -> 0 | L36: =입력변수!O32 -> 0 | M36: =IF(K36=0,"",ROUND((PRODUCT(F36:J36)*K36*L36),1))
B37: 시공자 선정계획수립 | E37: 식 | F37: 16.9 | K37: =입력변수!$F$11 -> 0 | L37: =IF(K37=0,"",1) | M37: =IF(K37=0,"",ROUND((PRODUCT(F37:J37)*K37*L37),1)) | O37: =SUM(M28:M37) -> 0
A38: 구매 조달 단계 | B38: 입찰업무지원 | E38: 식 | F38: 37.7 | K38: =입력변수!$F$12 -> 0 | L38: =IF(K38=0,"",1) | M38: =IF(K38=0,"",ROUND((PRODUCT(F38:J38)*K38*L38),1))
B39: 계약업무지원 | E39: 식 | F39: 27.5 | K39: =입력변수!$F$12 -> 0 | L39: =IF(K39=0,"",1) | M39: =IF(K39=0,"",ROUND((PRODUCT(F39:J39)*K39*L39),1))
B40: 지급자재조달지원 | E40: 공사개월 | F40: 0.6 | K40: =입력변수!$F$12 -> 0 | L40: =IF(K40=0,"",입력변수!$O$21) | M40: =IF(K40=0,"",ROUND((PRODUCT(F40:J40)*K40*L40),1)) | O40: =SUM(M38:M40) -> 0
...

Sheet 건설사업관리기술인 노임(엔지니어링 협회)
J12: 건설사업관리기술인 노임가격('26.01.07)
K13: 일임금액(원) | M13: 환산비(고급=1)
J14: 특급 | K14: 399247 | M14: 1.061
J15: 고급 | K15: 376400 | M15: 1
J16: 중급 | K16: 350580 | M16: 0.931
J17: 초급 | K17: 287724 | M17: 0.764

Sheet 자동차 가격(종합 물가정보)

Sheet 유류가격(오피넷)
J12: 고급 | K12: 보통 | L12: 자동차경유 | M12: 실내등유
I13: 울산 | K13: 1821.91 | L13: 1587.72
I14: 남구 | K14: 1810.49 | L14: 1577.79
I15: 동구 | K15: 1833.55 | L15: 1608.3
I16: 북구 | K16: 1821.51 | L16: 1588.91
I17: 울주군 | K17: 1828.39 | L17: 1591.29
I18: 중구 | K18: 1817.21 | L18: 1586.45

Sheet 보통인부 노임(대한건설협회)

Sheet 안전,보건관리비

Sheet 손해배상비용

Sheet 제본비용
